BEGIN:VCALENDAR
VERSION:2.0
PRODID:-//wp-events-plugin.com//7.2.2.1//EN
BEGIN:VEVENT
UID:72@merz-freerideschule.de
DTSTART;TZID=Europe/Berlin:20220206T090000
DTEND;TZID=Europe/Berlin:20220206T150000
DTSTAMP:20210920T210345Z
URL:https://merz-freerideschule.de/events/skitour-feuerstetter-600-hm/
SUMMARY:Skitour Feuerstätterkopf (600 Hm)
DESCRIPTION:Die Aufbauskitour – nach der Schnuppertour – führt uns dur
 ch die faszinierende Berglandschaft des Bregenzer Wald von Sibratsgfäll a
 uf den Feuerstetter.
ATTACH;FMTTYPE=image/jpeg:https://merz-freerideschule.de/wp-content/upload
 s/2021/09/Merz-Freerideschule_Feuerstaetterkopf-scaled.jpg
CATEGORIES:Skitouren
LOCATION:Sibratsgfäll\, Gasthaus Alpenrose\, Sibratsgfäll\, 6952\, Öster
 reich
X-APPLE-STRUCTURED-LOCATION;VALUE=URI;X-ADDRESS=Gasthaus Alpenrose\, Sibrat
 sgfäll\, 6952\, Österreich;X-APPLE-RADIUS=100;X-TITLE=Sibratsgfäll:geo:
 0,0
END:VEVENT
BEGIN:VTIMEZONE
TZID:Europe/Berlin
X-LIC-LOCATION:Europe/Berlin
BEGIN:STANDARD
DTSTART:20211031T020000
TZOFFSETFROM:+0200
TZOFFSETTO:+0100
TZNAME:CET
END:STANDARD
END:VTIMEZONE
END:VCALENDAR